<VRTDataset rasterXSize="58233" rasterYSize="68105">
  <SRS dataAxisToSRSAxisMapping="2,1">GEOGCS["GCS_NAD_1983_2007",DATUM["NAD83_National_Spatial_Reference_System_2007",SPHEROID["GRS 1980",6378137,298.257222101,AUTHORITY["EPSG","7019"]],AUTHORITY["EPSG","6759"]],PRIMEM["Greenwich",0],UNIT["degree",0.0174532925199433,AUTHORITY["EPSG","9122"]],AXIS["Latitude",NORTH],AXIS["Longitude",EAST]]</SRS>
  <GeoTransform> -7.7324151261299846e+01,  2.6949458523585825e-05,  0.0000000000000000e+00,  3.9722984890515768e+01,  0.0000000000000000e+00, -2.6949458523585812e-05</GeoTransform>
  <VRTRasterBand dataType="Byte" band="1">
    <NoDataValue>127</NoDataValue>
    <ColorInterp>Gray</ColorInterp>
    <ComplexSource>
      <SourceFilename relativeToVRT="0">./BulkDownload/High_Tide_Flooding/Moderate/MD_North_GCS_Merge_NOS_Mod.tif</SourceFilename>
      <SourceBand>1</SourceBand>
      <SourceProperties RasterXSize="30270" RasterYSize="27139" DataType="Byte" BlockXSize="512" BlockYSize="512" />
      <SrcRect xOff="0" yOff="0" xSize="30269.6886447402" ySize="27139" />
      <DstRect xOff="27963.3113552598" yOff="0" xSize="30269.6886447402" ySize="27139" />
      <NODATA>127</NODATA>
    </ComplexSource>
    <ComplexSource>
      <SourceFilename relativeToVRT="0">./BulkDownload/High_Tide_Flooding/Moderate/MD_Southwest_GCS_Merge_NOS_Mod.tif</SourceFilename>
      <SourceBand>1</SourceBand>
      <SourceProperties RasterXSize="41701" RasterYSize="30425" DataType="Byte" BlockXSize="512" BlockYSize="512" />
      <SrcRect xOff="0" yOff="0" xSize="41701" ySize="30424.5161299061" />
      <DstRect xOff="0" yOff="37680.483870094" xSize="41701" ySize="30424.516129906" />
      <NODATA>127</NODATA>
    </ComplexSource>
    <ComplexSource>
      <SourceFilename relativeToVRT="0">./BulkDownload/High_Tide_Flooding/Moderate/MD_West_GCS_Merge_NOS_Mod.tif</SourceFilename>
      <SourceBand>1</SourceBand>
      <SourceProperties RasterXSize="33461" RasterYSize="52619" DataType="Byte" BlockXSize="512" BlockYSize="512" />
      <SrcRect xOff="0" yOff="0" xSize="33461" ySize="52619" />
      <DstRect xOff="5042.0470147443" yOff="29.0250215595786" xSize="33461" ySize="52619" />
      <NODATA>127</NODATA>
    </ComplexSource>
  </VRTRasterBand>
  <OverviewList resampling="nearest">2 4 8 16 32</OverviewList>
</VRTDataset>
