View In:
ArcGIS JavaScript
ArcGIS Online Map Viewer
ArcGIS Earth
ArcGIS Pro
Service Description: This map service was created to support the National Oceanic and Atmospheric Administration (NOAA) Office for Coastal Management’s (OCM) Coastal Flood Exposure Mapper. The purpose of the online mapping tool is to provide coastal managers, planners, and stakeholders a preliminary look at exposures to coastal flooding hazards. The Mapper is a screening-level tool that uses nationally consistent data sets and analyses. Data and maps provided can be used at several scales to help communities initiate resilience planning efforts. As with all remotely sensed data, all features should be verified with a site visit. The dataset is provided "as is," without warranty to its performance, merchantable state, or fitness for any particular purpose. The entire risk associated with the results and performance of this dataset is assumed by the user. This dataset should be used strictly as a planning reference and not for navigation, permitting, or other legal purposes. For more information, visit the Coastal Flood Exposure Mapper (https://coast.noaa.gov/floodexposure). Send questions or comments to the NOAA Office for Coastal Management (coastal.info@noaa.gov).
Map Name: CFEM_EPA_FRSPoints
Legend
All Layers and Tables
Dynamic Legend
Dynamic All Layers
Layers:
Description: This map service was created to support the National Oceanic and Atmospheric Administration (NOAA) Office for Coastal Management’s (OCM) Coastal Flood Exposure Mapper. The purpose of the online mapping tool is to provide coastal managers, planners, and stakeholders a preliminary look at exposures to coastal flooding hazards. The Mapper is a screening-level tool that uses nationally consistent data sets and analyses. Data and maps provided can be used at several scales to help communities initiate resilience planning efforts. As with all remotely sensed data, all features should be verified with a site visit. The dataset is provided "as is," without warranty to its performance, merchantable state, or fitness for any particular purpose. The entire risk associated with the results and performance of this dataset is assumed by the user. This dataset should be used strictly as a planning reference and not for navigation, permitting, or other legal purposes. For more information, visit the Coastal Flood Exposure Mapper (https://coast.noaa.gov/floodexposure). Send questions or comments to the NOAA Office for Coastal Management (coastal.info@noaa.gov).
Service Item Id: 200a8e517d9445c5b4eeb582b271eaa2
Copyright Text: NOAA Office for Coastal Management
Spatial Reference:
102100
(3857)
Single Fused Map Cache: true
Tile Info:
- Height: 256
- Width: 256
- DPI: 96
-
Levels of Detail: 24
-
Level ID: 0
[ Start Tile, End Tile ]
- Resolution: 156543.03392800014
- Scale: 5.91657527591555E8
-
Level ID: 1
[ Start Tile, End Tile ]
- Resolution: 78271.51696399994
- Scale: 2.95828763795777E8
-
Level ID: 2
[ Start Tile, End Tile ]
- Resolution: 39135.75848200009
- Scale: 1.47914381897889E8
-
Level ID: 3
[ Start Tile, End Tile ]
- Resolution: 19567.87924099992
- Scale: 7.3957190948944E7
-
Level ID: 4
[ Start Tile, End Tile ]
- Resolution: 9783.93962049996
- Scale: 3.6978595474472E7
-
Level ID: 5
[ Start Tile, End Tile ]
- Resolution: 4891.96981024998
- Scale: 1.8489297737236E7
- Format: PNG8
- Compression Quality: 0.0
- Origin: X: -2.0037508342787E7
Y: 2.0037508342787E7
- Spatial Reference: 102100
(3857)
Storage Info:
- Storage Format: esriMapCacheStorageModeCompactV2
- Packet Size: 128
Initial Extent:
XMin: -1.4533370539569978E7
YMin: 722289.3933716365
XMax: -6287296.484642128
YMax: 6219672.09665687
Spatial Reference: 102100
(3857)
Full Extent:
XMin: -1.9016884893726878E7
YMin: -1615563.4555777377
XMax: 1.62308979602151E7
YMax: 6275270.3431307385
Spatial Reference: 102100
(3857)
Units: esriMeters
Supported Image Format Types: PNG32,PNG24,PNG,JPG,DIB,TIFF,EMF,PS,PDF,GIF,SVG,SVGZ,BMP
Document Info:
Title: CFEM_EPA_FRSPoints
Author:
Comments: This map service was created to support the National Oceanic and Atmospheric Administration (NOAA) Office for Coastal Management’s (OCM) Coastal Flood Exposure Mapper. The purpose of the online mapping tool is to provide coastal managers, planners, and stakeholders a preliminary look at exposures to coastal flooding hazards. The Mapper is a screening-level tool that uses nationally consistent data sets and analyses. Data and maps provided can be used at several scales to help communities initiate resilience planning efforts. As with all remotely sensed data, all features should be verified with a site visit. The dataset is provided "as is," without warranty to its performance, merchantable state, or fitness for any particular purpose. The entire risk associated with the results and performance of this dataset is assumed by the user. This dataset should be used strictly as a planning reference and not for navigation, permitting, or other legal purposes. For more information, visit the Coastal Flood Exposure Mapper (https://coast.noaa.gov/floodexposure). Send questions or comments to the NOAA Office for Coastal Management (coastal.info@noaa.gov).
Subject: Map service to support the Coastal Flood Exposure Mapper.
Category:
Keywords: Coastal,Flooding,Exposure,Hazards,NOAA,Coastal Hazards,EPA,FRS,Pollution
AntialiasingMode: None
TextAntialiasingMode: None
Supports Dynamic Layers: true
Resampling: false
MaxRecordCount: 2000
MaxImageHeight: 4096
MaxImageWidth: 4096
Supported Query Formats: JSON, geoJSON, PBF
Supports Query Data Elements: true
Min Scale: 5.91657527591555E8
Max Scale: 1128.497176
Supports Datum Transformation: true
Child Resources:
Info
Dynamic Layer
Supported Operations:
Export Map
Identify
QueryLegends
QueryDomains
Find
Return Updates