View In:
ArcGIS JavaScript
ArcGIS Online Map Viewer
ArcGIS Earth
ArcGIS Pro
Service Description: These data depict a wave energy resource characterization for the US Exclusive Economic Zone. This climatology is based on a multi-resolution 32 year hindcast that used the WaveWatchIII and Simulating WAve Nearshore (SWAN) wave models. A collection of five variables are reported at the annual and monthly intervals. Statistics for each variable are provided as point and hexagon features.
Map Name: Public
Legend
All Layers and Tables
Layers:
Description:
Service Item Id: 1730976e312544e49c265cfc301c80c1
Copyright Text:
Spatial Reference:
102100
(3857)
LatestVCSWkid(0)
Single Fused Map Cache: true
Tile Info:
- Height: 256
- Width: 256
- DPI: 96
-
Levels of Detail: 24
-
Level ID: 1
[ Start Tile, End Tile ]
- Resolution: 78271.5169639999
- Scale: 2.95828763795777E8
-
Level ID: 2
[ Start Tile, End Tile ]
- Resolution: 39135.7584820001
- Scale: 1.47914381897889E8
-
Level ID: 3
[ Start Tile, End Tile ]
- Resolution: 19567.8792409999
- Scale: 7.3957190948944E7
-
Level ID: 4
[ Start Tile, End Tile ]
- Resolution: 9783.93962049996
- Scale: 3.6978595474472E7
-
Level ID: 5
[ Start Tile, End Tile ]
- Resolution: 4891.96981024998
- Scale: 1.8489297737236E7
- Format: PNG
- Compression Quality: 0.0
- Origin: X: -2.0037508342787E7
Y: 2.0037508342787E7
- Spatial Reference: 102100
(3857)
LatestVCSWkid(0)
Storage Info:
- Storage Format: esriMapCacheStorageModeCompactV2
- Packet Size: 128
Initial Extent:
XMin: -1.4845222988222316E7
YMin: 1044253.1248681005
XMax: -6639440.275677685
YMax: 6976241.216231899
Spatial Reference: 102100
(0)
LatestVCSWkid(0)
Full Extent:
XMin: -2.00374994373E7
YMin: 5977763.060900003
XMax: 2.0040549828100003E7
YMax: 8740361.7857
Spatial Reference: 102100
(0)
LatestVCSWkid(0)
Units: esriMeters
Supported Image Format Types: PNG32,PNG24,PNG,JPG,DIB,TIFF,EMF,PS,PDF,GIF,SVG,SVGZ,BMP
Document Info:
Title: Z:\dMartin\aprx\PUBLIC\PUBLIC.aprx
Author:
Comments:
Subject:
Category:
Keywords: coastal,ocean,planning
AntialiasingMode: Fast
TextAntialiasingMode: Force
Supports Dynamic Layers: false
MaxRecordCount: 2000
MaxImageHeight: 4096
MaxImageWidth: 4096
Supported Query Formats: JSON, geoJSON, PBF
Supports Query Data Elements: true
Min Scale: 7.3957190948944E7
Max Scale: 9027.977411
Supports Datum Transformation: true
Child Resources:
Info
Supported Operations:
Export Map
Identify
QueryLegends
QueryDomains
Find
Return Updates