View In:
ArcGIS JavaScript
ArcGIS Online Map Viewer
ArcGIS Earth
ArcGIS Pro
Service Description: These data were created as part of the National Oceanic and Atmospheric Administration (NOAA) Office for Coastal Management's efforts to create an online mapping viewer depicting potential lake levels for the United States Great Lakes. The purpose of the mapping viewer is to provide coastal managers and scientists with a preliminary look at potential impacts. The viewer is a screening-level tool that uses nationally consistent data sets and analyses. Data and maps provided can be used at several scales to help gauge trends and prioritize actions for different scenarios.
"SOVI" data depict the social vulnerability of census tracts to environmental hazards and is based on the Social Vulnerability Index (SoVI). Input data are from the 2010 Decennial Census and the 5-year American Community Survey, 2006-2010. For more information visit http://webra.cas.sc.edu/hvri/products/sovi.aspx.
Map Name: Layers
Legend
All Layers and Tables
Dynamic Legend
Dynamic All Layers
Layers:
Description:
Service Item Id: fcf06d7c905b415e9019763980b50864
Copyright Text: University of South Carolina Hazards and Vulnerability Research Institute
Spatial Reference:
102100
(3857)
LatestVCSWkid(0)
Single Fused Map Cache: true
Tile Info:
- Height: 256
- Width: 256
- DPI: 96
-
Levels of Detail: 20
-
Level ID: 0
[ Start Tile, End Tile ]
- Resolution: 156543.03392800014
- Scale: 5.91657527591555E8
-
Level ID: 1
[ Start Tile, End Tile ]
- Resolution: 78271.51696399994
- Scale: 2.95828763795777E8
-
Level ID: 2
[ Start Tile, End Tile ]
- Resolution: 39135.75848200009
- Scale: 1.47914381897889E8
-
Level ID: 3
[ Start Tile, End Tile ]
- Resolution: 19567.87924099992
- Scale: 7.3957190948944E7
-
Level ID: 4
[ Start Tile, End Tile ]
- Resolution: 9783.93962049996
- Scale: 3.6978595474472E7
-
Level ID: 5
[ Start Tile, End Tile ]
- Resolution: 4891.96981024998
- Scale: 1.8489297737236E7
- Format: PNG8
- Compression Quality: 0.0
- Origin: X: -2.0037508342787E7
Y: 2.0037508342787E7
- Spatial Reference: 102100
(3857)
LatestVCSWkid(0)
Storage Info:
- Storage Format: esriMapCacheStorageModeCompactV2
- Packet Size: 128
Initial Extent:
XMin: -1.0616410712298134E7
YMin: 5308199.1618361315
XMax: -8224397.773917868
YMax: 6484556.017622265
Spatial Reference: 102100
(3857)
LatestVCSWkid(0)
Full Extent:
XMin: -1.03635856865E7
YMin: 4998561.9683
XMax: -8398624.3461
YMax: 6212564.6543999985
Spatial Reference: 102100
(3857)
LatestVCSWkid(0)
Units: esriMeters
Supported Image Format Types: PNG32,PNG24,PNG,JPG,DIB,TIFF,EMF,PS,PDF,GIF,SVG,SVGZ,BMP
Document Info:
Title: Social Vulnerability Index (SoVI) Census Tracts (2010)
Author: coastal.info@noaa.gov
Comments: These data were created as part of the National Oceanic and Atmospheric Administration (NOAA) Office for Coastal Management's efforts to create an online mapping viewer depicting potential lake levels for the United States Great Lakes. The purpose of the mapping viewer is to provide coastal managers and scientists with a preliminary look at potential impacts. The viewer is a screening-level tool that uses nationally consistent data sets and analyses. Data and maps provided can be used at several scales to help gauge trends and prioritize actions for different scenarios.
"SOVI" data depict the social vulnerability of census tracts to environmental hazards and is based on the Social Vulnerability Index (SoVI). Input data are from the 2010 Decennial Census and the 5-year American Community Survey, 2006-2010. For more information visit http://webra.cas.sc.edu/hvri/products/sovi.aspx.
Subject:
Category:
Keywords:
AntialiasingMode: None
TextAntialiasingMode: Force
Supports Dynamic Layers: true
MaxRecordCount: 1000
MaxImageHeight: 4096
MaxImageWidth: 4096
Supported Query Formats: JSON, geoJSON, PBF
Supports Query Data Elements: true
Min Scale: 1.8489297737236E7
Max Scale: 4513.988705
Supports Datum Transformation: true
Child Resources:
Info
Dynamic Layer
Supported Operations:
Export Map
Identify
QueryLegends
QueryDomains
Find
Return Updates
Generate KML