View In:
ArcGIS JavaScript
ArcGIS Online Map Viewer
ArcGIS Earth
ArcGIS Pro
Service Description: Potential Marsh Distribution for 6.0 ft of Future Net Sea Level Rise
This dataset was created as part of the National Oceanic and Atmospheric Administration Office for Coastal Management's efforts to create an online mapping viewer depicting potential sea level rise and its associated impacts on the nation's coastal areas. The purpose of the mapping viewer is to provide coastal managers and scientists with a preliminary look at sea level rise and coastal flooding impacts. The viewer is a screening-level tool that uses nationally consistent data sets and analyses. Data and maps provided can be used at several scales to help gauge trends and prioritize actions for different scenarios. The purpose of this data is to highlight potential marsh type distribution given 6.0 ft of future net sea level rise. Tiles have been cached down to Level ID 15 (1:18,055). The initial (2010) land cover condition is derived from the Coastal Change Analysis Program (C-CAP) land cover (http://www.coast.noaa.gov/digitalcoast/data/ccapregional/), and is dependent upon the accuracy of that classification. The vertical accuracy of this dataset is dependent on the source elevation data and the error associated with vertical datum conversions within NOAA's VDatum software. The dataset should be used only as a screening-level tool for management decisions. As with all remotely sensed data, all features should be verified with a site visit. The dataset is provided "as is," without warranty to its performance, merchantable state, or fitness for any particular purpose. The entire risk associated with the results and performance of this dataset is assumed by the user. This dataset should be used strictly as a planning reference and not for navigation, permitting, or other legal purposes. For more information visit the Sea Level Rise Impacts Viewer (http://coast.noaa.gov/slr).
Map Name: Layers
Legend
All Layers and Tables
Dynamic Legend
Dynamic All Layers
Layers:
Description:
Service Item Id: a32bc22aa257471e854bd092a93eb8ec
Copyright Text: NOAA Office for Coastal Management
Spatial Reference:
102100
(3857)
LatestVCSWkid(0)
Single Fused Map Cache: true
Tile Info:
- Height: 256.0
- Width: 256.0
- DPI: 96.0
-
Levels of Detail: 24
-
Level ID: 1
[ Start Tile, End Tile ]
- Resolution: 78271.5169639999
- Scale: 2.95828763795777E8
-
Level ID: 2
[ Start Tile, End Tile ]
- Resolution: 39135.7584820001
- Scale: 1.47914381897889E8
-
Level ID: 3
[ Start Tile, End Tile ]
- Resolution: 19567.8792409999
- Scale: 7.3957190948944E7
-
Level ID: 4
[ Start Tile, End Tile ]
- Resolution: 9783.93962049996
- Scale: 3.6978595474472E7
-
Level ID: 5
[ Start Tile, End Tile ]
- Resolution: 4891.96981024998
- Scale: 1.8489297737236E7
- Format: PNG
- Compression Quality: 0.0
- Origin: X: -2.0037508342787E7
Y: 2.0037508342787E7
- Spatial Reference: 102100
(3857)
LatestVCSWkid(0)
Storage Info:
- Storage Format: esriMapCacheStorageModeCompactV2
- Packet Size: 128
Initial Extent:
XMin: -1.4080531588895615E7
YMin: 4243766.501920966
XMax: -7970328.1921111755
YMax: 6823630.158341063
Spatial Reference: 102100
(0)
LatestVCSWkid(0)
Full Extent:
XMin: -1.90243444873E7
YMin: -1644893.0436999984
XMax: 1.6238991816799998E7
YMax: 1.0602562720299996E7
Spatial Reference: 102100
(0)
LatestVCSWkid(0)
Units: esriMeters
Supported Image Format Types: PNG32,PNG24,PNG,JPG,DIB,TIFF,EMF,PS,PDF,GIF,SVG,SVGZ,BMP
Document Info:
Title: Potential Marsh Distribution for 6.0 ft of Future Net Sea Level Rise
Author: coastal.info@noaa.gov
Comments: Potential Marsh Distribution for 6.0 ft of Future Net Sea Level Rise
This dataset was created as part of the National Oceanic and Atmospheric Administration Office for Coastal Management's efforts to create an online mapping viewer depicting potential sea level rise and its associated impacts on the nation's coastal areas. The purpose of the mapping viewer is to provide coastal managers and scientists with a preliminary look at sea level rise and coastal flooding impacts. The viewer is a screening-level tool that uses nationally consistent data sets and analyses. Data and maps provided can be used at several scales to help gauge trends and prioritize actions for different scenarios. The purpose of this data is to highlight potential marsh type distribution given 6.0 ft of future net sea level rise. Tiles have been cached down to Level ID 15 (1:18,055). The initial (2010) land cover condition is derived from the Coastal Change Analysis Program (C-CAP) land cover (http://www.coast.noaa.gov/digitalcoast/data/ccapregional/), and is dependent upon the accuracy of that classification. The vertical accuracy of this dataset is dependent on the source elevation data and the error associated with vertical datum conversions within NOAA's VDatum software. The dataset should be used only as a screening-level tool for management decisions. As with all remotely sensed data, all features should be verified with a site visit. The dataset is provided "as is," without warranty to its performance, merchantable state, or fitness for any particular purpose. The entire risk associated with the results and performance of this dataset is assumed by the user. This dataset should be used strictly as a planning reference and not for navigation, permitting, or other legal purposes. For more information visit the Sea Level Rise Impacts Viewer (http://coast.noaa.gov/slr).
Subject:
Category:
Keywords: Sea Level Rise,Bathymetry/Topography,Shoreline,Inundation,Marsh Migration
AntialiasingMode: None
TextAntialiasingMode: Force
Supports Dynamic Layers: true
MaxRecordCount: 1000
MaxSelectionCount: 2000
MaxImageHeight: 4096
MaxImageWidth: 4096
Supported Query Formats: JSON, geoJSON, PBF
Supports Query Data Elements: true
Min Scale: 7.3957190948944E7
Max Scale: 4513.988705
Supports Datum Transformation: true
Child Resources:
Info
Dynamic Layer
Supported Operations:
Export Map
Identify
QueryLegends
QueryDomains
Find
Return Updates
Generate KML