View In:
ArcGIS JavaScript
ArcGIS Online Map Viewer
ArcGIS Earth
ArcGIS Pro
Service Description: These data show the general location of commercial and research submarine cables within U.S. waters. The majority of these cables are for telecommunications, and the remaining are for power transmission. The geographic footprint for each cable may vary and is dependent on the original source data. In the nearshore, cables are routinely buried below the seabed. In the offshore, they are placed directly on the seabed. A submarine cable area may contain one or more physical cables. 30 CFR 585.301 defines a minimum 100-foot-wide right of way grant on each side of a cable.
Map Name: Public
Legend
All Layers and Tables
Layers:
Description: These data show the general location of commercial and research submarine cables within U.S. waters. The majority of these cables are for telecommunications, and the remaining are for power transmission. The geographic footprint for each cable may vary and is dependent on the original source data. In the nearshore, cables are routinely buried below the seabed. In the offshore, they are placed directly on the seabed. A submarine cable area may contain one or more physical cables. 30 CFR 585.301 defines a minimum 100-foot-wide right of way grant on each side of a cable.
Service Item Id: 48fb1a6d134e4f42ae6bfd3e401c1b97
Copyright Text:
Spatial Reference:
102100
(3857)
Single Fused Map Cache: true
Tile Info:
- Height: 256
- Width: 256
- DPI: 96
-
Levels of Detail: 17
-
Level ID: 0
[ Start Tile, End Tile ]
- Resolution: 156543.03392800014
- Scale: 5.91657527591555E8
-
Level ID: 1
[ Start Tile, End Tile ]
- Resolution: 78271.51696399994
- Scale: 2.95828763795777E8
-
Level ID: 2
[ Start Tile, End Tile ]
- Resolution: 39135.75848200009
- Scale: 1.47914381897889E8
-
Level ID: 3
[ Start Tile, End Tile ]
- Resolution: 19567.87924099992
- Scale: 7.3957190948944E7
-
Level ID: 4
[ Start Tile, End Tile ]
- Resolution: 9783.93962049996
- Scale: 3.6978595474472E7
-
Level ID: 5
[ Start Tile, End Tile ]
- Resolution: 4891.96981024998
- Scale: 1.8489297737236E7
- Format: PNG
- Compression Quality: 0.0
- Origin: X: -2.0037508342787E7
Y: 2.0037508342787E7
- Spatial Reference: 102100
(3857)
Storage Info:
- Storage Format: esriMapCacheStorageModeCompactV2
- Packet Size: 128
Initial Extent:
XMin: -1.5790844476177981E7
YMin: 397527.4656803892
XMax: -5693818.787822021
YMax: 7622966.875419611
Spatial Reference: 102100
(3857)
Full Extent:
XMin: -2.00375070672E7
YMin: -1606485.7003000006
XMax: 2.0037507067199998E7
YMax: 1.16800018416E7
Spatial Reference: 102100
(3857)
Units: esriMeters
Supported Image Format Types: PNG32,PNG24,PNG,JPG,DIB,TIFF,EMF,PS,PDF,GIF,SVG,SVGZ,BMP
Document Info:
Title: C:\Users\Daniel.Martin\Documents\ArcGIS\Projects\PUBLIC\PUBLIC.aprx
Author:
Comments:
Subject:
Category:
Keywords: coastal,ocean,planning
AntialiasingMode: Fast
TextAntialiasingMode: Force
Supports Dynamic Layers: false
MaxRecordCount: 2000
MaxImageHeight: 4096
MaxImageWidth: 4096
Supported Query Formats: JSON, geoJSON, PBF
Supports Query Data Elements: true
Min Scale: 7.3957190948944E7
Max Scale: 18055.954822
Supports Datum Transformation: true
Child Resources:
Info
Supported Operations:
Export Map
Identify
QueryLegends
QueryDomains
Find
Return Updates